BEGIN:VCALENDAR
VERSION:2.0
PRODID:SchoolNow
CALSCALE:GREGORIAN
BEGIN:VEVENT
UID:c50a42fc-3a96-11f1-9c47-0a58a9feac02
DTSTAMP:20260419T203103Z
SUMMARY:Dental Presentation TK-K room E4
URL;VALUE=URI:https://www.millercreeksd.org/lucasvalleyes/calendar/9001542/
 dental-presentation-tk-k-room-e4
DTSTART:20260422T160000Z
DTEND:20260422T163000Z
END:VEVENT
END:VCALENDAR
